﻿BEGIN:VCALENDAR
VERSION:2.0
PRODID:-//Aurora College - ECPv6.15.20//NONSGML v1.0//EN
CALSCALE:GREGORIAN
METHOD:PUBLISH
X-WR-CALNAME:Aurora College
X-ORIGINAL-URL:https://www.auroracollege.nt.ca
X-WR-CALDESC:Events for Aurora College
REFRESH-INTERVAL;VALUE=DURATION:PT1H
X-Robots-Tag:noindex
X-PUBLISHED-TTL:PT1H
BEGIN:VTIMEZONE
TZID:America/Inuvik
BEGIN:DAYLIGHT
TZOFFSETFROM:-0700
TZOFFSETTO:-0600
TZNAME:MDT
DTSTART:20220313T090000
END:DAYLIGHT
BEGIN:STANDARD
TZOFFSETFROM:-0600
TZOFFSETTO:-0700
TZNAME:MST
DTSTART:20221106T080000
END:STANDARD
BEGIN:DAYLIGHT
TZOFFSETFROM:-0700
TZOFFSETTO:-0600
TZNAME:MDT
DTSTART:20230312T090000
END:DAYLIGHT
BEGIN:STANDARD
TZOFFSETFROM:-0600
TZOFFSETTO:-0700
TZNAME:MST
DTSTART:20231105T080000
END:STANDARD
BEGIN:DAYLIGHT
TZOFFSETFROM:-0700
TZOFFSETTO:-0600
TZNAME:MDT
DTSTART:20240310T090000
END:DAYLIGHT
BEGIN:STANDARD
TZOFFSETFROM:-0600
TZOFFSETTO:-0700
TZNAME:MST
DTSTART:20241103T080000
END:STANDARD
END:VTIMEZONE
BEGIN:VEVENT
DTSTART;TZID=America/Inuvik:20230222T083000
DTEND;TZID=America/Inuvik:20230223T160000
DTSTAMP:20260423T101137
CREATED:20230126T220834Z
LAST-MODIFIED:20230126T220837Z
UID:10000239-1677054600-1677168000@www.auroracollege.nt.ca
SUMMARY:Starting a Small Business
DESCRIPTION:Thinking of starting your own business? Need basic information and direction? \n\n\n\n\nHelp determine whether self-employment is right for you!\n\n\n\nLearn the steps required to turn your idea into reality\n\n\n\nGet details you need about starting a business in your community\n\n\n\n\nNo cost to register \n\n\n\nApplication Deadline: Friday February 10\, 2023 \n\n\n\nFor More information: \n\n\n\nJanice Walker \n\n\n\nContinuing Education\, Thebacha Campus \n\n\n\njwalker@auroracollege.nt.ca \n\n\n\n867-874-6455
URL:https://www.auroracollege.nt.ca/event/starting-a-small-business/
LOCATION:Thebacha Campus\, Fort Smith
CATEGORIES:Continuing Education Thebacha Campus, Fort Smith
END:VEVENT
END:VCALENDAR