﻿BEGIN:VCALENDAR
VERSION:2.0
PRODID:-//Aurora College - ECPv6.15.20//NONSGML v1.0//EN
CALSCALE:GREGORIAN
METHOD:PUBLISH
X-ORIGINAL-URL:https://www.auroracollege.nt.ca
X-WR-CALDESC:Events for Aurora College
REFRESH-INTERVAL;VALUE=DURATION:PT1H
X-Robots-Tag:noindex
X-PUBLISHED-TTL:PT1H
BEGIN:VTIMEZONE
TZID:America/Inuvik
BEGIN:DAYLIGHT
TZOFFSETFROM:-0700
TZOFFSETTO:-0600
TZNAME:MDT
DTSTART:20210314T090000
END:DAYLIGHT
BEGIN:STANDARD
TZOFFSETFROM:-0600
TZOFFSETTO:-0700
TZNAME:MST
DTSTART:20211107T080000
END:STANDARD
BEGIN:DAYLIGHT
TZOFFSETFROM:-0700
TZOFFSETTO:-0600
TZNAME:MDT
DTSTART:20220313T090000
END:DAYLIGHT
BEGIN:STANDARD
TZOFFSETFROM:-0600
TZOFFSETTO:-0700
TZNAME:MST
DTSTART:20221106T080000
END:STANDARD
BEGIN:DAYLIGHT
TZOFFSETFROM:-0700
TZOFFSETTO:-0600
TZNAME:MDT
DTSTART:20230312T090000
END:DAYLIGHT
BEGIN:STANDARD
TZOFFSETFROM:-0600
TZOFFSETTO:-0700
TZNAME:MST
DTSTART:20231105T080000
END:STANDARD
END:VTIMEZONE
BEGIN:VEVENT
DTSTART;TZID=America/Inuvik:20221011T083000
DTEND;TZID=America/Inuvik:20221012T170000
DTSTAMP:20260422T005948
CREATED:20220819T135302Z
LAST-MODIFIED:20220907T194309Z
UID:10000189-1665477000-1665594000@www.auroracollege.nt.ca
SUMMARY:STANDARD FIRST AID WITH CPR AND AED
DESCRIPTION:There are two offerings of this St. John Ambulance course\, which includes Standard First Aid with CPR Level C (adult/ infant/ child) and Automated External Defibrillation (AED). It is for those who want more knowledge to respond to emergencies in the home or workplace. A variety of topics are covered\, from basic cardiovascular and breathing emergencies\, CPR Level C and prevention of disease transmission\, to more severe sudden medical conditions and injuries to the head and spine. \n\n\n\nDate: October 18-19\, 2022 \n\n\n\nTime: 8:30 AM to 5:00 PM both days \n\n\n\nCost: $350.00 \n\n\n\nInstructor: Blyth and Bathe \n\n\n\nRegistration deadline: Thursday\, September 29\, 2022
URL:https://www.auroracollege.nt.ca/event/standard-first-aid-with-cpr-and-aed/
LOCATION:Thebacha Campus\, Fort Smith
CATEGORIES:Continuing Education Thebacha Campus, Fort Smith
ORGANIZER;CN="Jessica Cox":MAILTO:jcox@auroracollege.nt.ca
END:VEVENT
BEGIN:VEVENT
DTSTART;TZID=America/Inuvik:20220929T090000
DTEND;TZID=America/Inuvik:20220929T120000
DTSTAMP:20260422T005948
CREATED:20220818T200616Z
LAST-MODIFIED:20220818T200616Z
UID:10000177-1664442000-1664452800@www.auroracollege.nt.ca
SUMMARY:FORMULAS & FUNCTIONS - Virtual Course
DESCRIPTION:FORMULAS & FUNCTIONS\n\n\n\nIn this 3-hour session\, learn how to set up formulas and functions to get the Excel program to do the math for you. Topics include: \n\n\n\nCreating and editing formulasMathematical operatorsCommon functionsConditional functionsAbsolute & relative cell referencesProtecting your workbook\n\n\n\nDate: September 29\, 2022Time: 9:00 a.m. – NoonCost: $150.00Instructor: Heather Lyon \n\n\n\nABOUT EXCEL TRAINING – INSTRUCTOR-LED ONLINE SERIES\n\n\n\nThis series of 3-hour sessions are delivered in a live\, online session where students and the instructor can speak and interact with one another. Students will need a computer with internet access and a microphone/speakers for this class. A headset with a microphone is ideal\, but not required. As the instructor demonstrates the exercises\, students can complete the exercises on their own computer\, providing they have a copy of the Excel program installed on their own computer. Otherwise\, they are welcome to take the class and observe the instructor.
URL:https://www.auroracollege.nt.ca/event/formulas-functions-virtual-course/
CATEGORIES:Continuing Education Aurora Campus, Inuvik,Continuing Education Thebacha Campus, Fort Smith,Continuing Education Yellowknife North Slave Campus
ORGANIZER;CN="Karen Horn":MAILTO:KHorn@auroracollege.ca
END:VEVENT
BEGIN:VEVENT
DTSTART;TZID=America/Inuvik:20220920T090000
DTEND;TZID=America/Inuvik:20220922T160000
DTSTAMP:20260422T005948
CREATED:20220819T135002Z
LAST-MODIFIED:20220819T135002Z
UID:10000187-1663664400-1663862400@www.auroracollege.nt.ca
SUMMARY:PROJECT MANAGEMENT FUNDAMENTALS (1ST COURSE IN SERIES)
DESCRIPTION:This is the first course in the Project Management Certificate program\, and is a prerequisite for the other nine courses. During this workshop you will examine project management from conceptualization through to final completion. You will learn how to set up an effective plan\, apply project planning steps\, develop the project plan and implement it\, manage work in progress\, monitor controls\, and reporting status. \n\n\n\nDate: September 20-22\, 2022 \n\n\n\nTime:  9:00 AM to 4:00 PM each day \n\n\n\nCost: $650.00 \n\n\n\nInstructor: Janet Dean\, TangleTree Enterprises \n\n\n\nRegistration deadline: Friday\, September 2\, 2022
URL:https://www.auroracollege.nt.ca/event/project-management-fundamentals-1st-course-in-series/
LOCATION:Thebacha Campus\, Fort Smith
CATEGORIES:Continuing Education Thebacha Campus, Fort Smith
ORGANIZER;CN="Jessica Cox":MAILTO:jcox@auroracollege.nt.ca
END:VEVENT
BEGIN:VEVENT
DTSTART;TZID=America/Inuvik:20220915T090000
DTEND;TZID=America/Inuvik:20220915T120000
DTSTAMP:20260422T005948
CREATED:20220818T200339Z
LAST-MODIFIED:20220818T200339Z
UID:10000176-1663232400-1663243200@www.auroracollege.nt.ca
SUMMARY:INTRO TO EXCEL - Virtual Course
DESCRIPTION:This 3-hour session will introduce you to the capabilities of the MS Excel program. Learn the basics of what you can do with the powerful electronic spreadsheet program including: \n\n\n\nPurpose of spreadsheetsMoving around the screenUsing the ‘Ribbon’Entering dataCreating basic formulasSelecting cellsWorking with workbooksViewing & printing\n\n\n\nDate: September 15\, 2022 \n\n\n\nTime: 9:00 a.m. – Noon \n\n\n\nCost: $150.00 \n\n\n\nInstructor: Heather Lyon \n\n\n\nABOUT EXCEL TRAINING – INSTRUCTOR-LED ONLINE SERIES\n\n\n\nThis series of 3-hour sessions are delivered in a live\, online session where students and the instructor can speak and interact with one another. Students will need a computer with internet access and a microphone/speakers for this class. A headset with a microphone is ideal\, but not required. As the instructor demonstrates the exercises\, students can complete the exercises on their own computer\, providing they have a copy of the Excel program installed on their own computer. Otherwise\, they are welcome to take the class and observe the instructor.
URL:https://www.auroracollege.nt.ca/event/intro-to-excel-virtual-course/
CATEGORIES:Continuing Education Aurora Campus, Inuvik,Continuing Education Thebacha Campus, Fort Smith,Continuing Education Yellowknife North Slave Campus
ORGANIZER;CN="Karen Horn":MAILTO:KHorn@auroracollege.ca
END:VEVENT
BEGIN:VEVENT
DTSTART;TZID=America/Inuvik:20220910T083000
DTEND;TZID=America/Inuvik:20220911T153000
DTSTAMP:20260422T005948
CREATED:20220819T134832Z
LAST-MODIFIED:20220819T134832Z
UID:10000186-1662798600-1662910200@www.auroracollege.nt.ca
SUMMARY:CANADIAN FIREARMS SAFETY COURSE (NON-RESTRICTED)
DESCRIPTION:This Canadian Firearms Safety Course (CFSC) is for individuals wishing to acquire non-restricted firearms. Topics covered in the course include the evolution of firearms\, major parts\, types\, and actions; basic firearms safety practices; ammunition; operating firearm actions; safe handling and carry procedures; firing techniques and procedures; care of non-restricted firearms; responsibilities of the firearms owner/user; and safe storage\, display\, transportation\, and handling of non-restricted firearms. \n\n\n\nDate: September 10-11\, 2022 \n\n\n\nTime: 8:30 AM to 5:00 PM both days \n\n\n\nCost: $350.00 \n\n\n\nInstructor: Blyth and Bathe \n\n\n\nRegistration deadline Friday\, August 26\, 2022
URL:https://www.auroracollege.nt.ca/event/canadian-firearms-safety-course-non-restricted/
LOCATION:Thebacha Campus\, Fort Smith
CATEGORIES:Continuing Education Thebacha Campus, Fort Smith
ORGANIZER;CN="Jessica Cox":MAILTO:jcox@auroracollege.nt.ca
END:VEVENT
END:VCALENDAR