﻿BEGIN:VCALENDAR
VERSION:2.0
PRODID:-//Aurora College - ECPv6.15.20//NONSGML v1.0//EN
CALSCALE:GREGORIAN
METHOD:PUBLISH
X-ORIGINAL-URL:https://www.auroracollege.nt.ca
X-WR-CALDESC:Events for Aurora College
REFRESH-INTERVAL;VALUE=DURATION:PT1H
X-Robots-Tag:noindex
X-PUBLISHED-TTL:PT1H
BEGIN:VTIMEZONE
TZID:America/Inuvik
BEGIN:DAYLIGHT
TZOFFSETFROM:-0700
TZOFFSETTO:-0600
TZNAME:MDT
DTSTART:20210314T090000
END:DAYLIGHT
BEGIN:STANDARD
TZOFFSETFROM:-0600
TZOFFSETTO:-0700
TZNAME:MST
DTSTART:20211107T080000
END:STANDARD
BEGIN:DAYLIGHT
TZOFFSETFROM:-0700
TZOFFSETTO:-0600
TZNAME:MDT
DTSTART:20220313T090000
END:DAYLIGHT
BEGIN:STANDARD
TZOFFSETFROM:-0600
TZOFFSETTO:-0700
TZNAME:MST
DTSTART:20221106T080000
END:STANDARD
BEGIN:DAYLIGHT
TZOFFSETFROM:-0700
TZOFFSETTO:-0600
TZNAME:MDT
DTSTART:20230312T090000
END:DAYLIGHT
BEGIN:STANDARD
TZOFFSETFROM:-0600
TZOFFSETTO:-0700
TZNAME:MST
DTSTART:20231105T080000
END:STANDARD
END:VTIMEZONE
BEGIN:VEVENT
DTSTART;TZID=America/Inuvik:20221128T090000
DTEND;TZID=America/Inuvik:20221128T160000
DTSTAMP:20260423T192750
CREATED:20220819T135723Z
LAST-MODIFIED:20221017T172724Z
UID:10000193-1669626000-1669651200@www.auroracollege.nt.ca
SUMMARY:PROJECT MONITORING AND CONTROL (6TH COURSE IN SERIES)
DESCRIPTION:This is the sixth course in the Project Management Certificate program. In this course students will learn to establish a baseline from which to measure results. \n\n\n\nDate: Monday\, November 28\, 2022 \n\n\n\nTime: 9:00 AM to 4:00 PM \n\n\n\nCost: $350.00 \n\n\n\nInstructor: Janet Dean\, TangleTree Enterprises \n\n\n\nRegistration deadline: Thursday\, September 29\, 2022
URL:https://www.auroracollege.nt.ca/event/project-monitoring-and-control-6th-course-in-series/
LOCATION:Thebacha Campus\, Fort Smith
CATEGORIES:Continuing Education Thebacha Campus, Fort Smith
ORGANIZER;CN="Jessica Cox":MAILTO:jcox@auroracollege.nt.ca
END:VEVENT
END:VCALENDAR