﻿BEGIN:VCALENDAR
VERSION:2.0
PRODID:-//Aurora College - ECPv6.15.20//NONSGML v1.0//EN
CALSCALE:GREGORIAN
METHOD:PUBLISH
X-ORIGINAL-URL:https://www.auroracollege.nt.ca
X-WR-CALDESC:Events for Aurora College
REFRESH-INTERVAL;VALUE=DURATION:PT1H
X-Robots-Tag:noindex
X-PUBLISHED-TTL:PT1H
BEGIN:VTIMEZONE
TZID:America/Inuvik
BEGIN:DAYLIGHT
TZOFFSETFROM:-0700
TZOFFSETTO:-0600
TZNAME:MDT
DTSTART:20210314T090000
END:DAYLIGHT
BEGIN:STANDARD
TZOFFSETFROM:-0600
TZOFFSETTO:-0700
TZNAME:MST
DTSTART:20211107T080000
END:STANDARD
BEGIN:DAYLIGHT
TZOFFSETFROM:-0700
TZOFFSETTO:-0600
TZNAME:MDT
DTSTART:20220313T090000
END:DAYLIGHT
BEGIN:STANDARD
TZOFFSETFROM:-0600
TZOFFSETTO:-0700
TZNAME:MST
DTSTART:20221106T080000
END:STANDARD
BEGIN:DAYLIGHT
TZOFFSETFROM:-0700
TZOFFSETTO:-0600
TZNAME:MDT
DTSTART:20230312T090000
END:DAYLIGHT
BEGIN:STANDARD
TZOFFSETFROM:-0600
TZOFFSETTO:-0700
TZNAME:MST
DTSTART:20231105T080000
END:STANDARD
END:VTIMEZONE
BEGIN:VEVENT
DTSTART;TZID=America/Inuvik:20220920T090000
DTEND;TZID=America/Inuvik:20220922T160000
DTSTAMP:20260424T050352
CREATED:20220819T135002Z
LAST-MODIFIED:20220819T135002Z
UID:10000187-1663664400-1663862400@www.auroracollege.nt.ca
SUMMARY:PROJECT MANAGEMENT FUNDAMENTALS (1ST COURSE IN SERIES)
DESCRIPTION:This is the first course in the Project Management Certificate program\, and is a prerequisite for the other nine courses. During this workshop you will examine project management from conceptualization through to final completion. You will learn how to set up an effective plan\, apply project planning steps\, develop the project plan and implement it\, manage work in progress\, monitor controls\, and reporting status. \n\n\n\nDate: September 20-22\, 2022 \n\n\n\nTime:  9:00 AM to 4:00 PM each day \n\n\n\nCost: $650.00 \n\n\n\nInstructor: Janet Dean\, TangleTree Enterprises \n\n\n\nRegistration deadline: Friday\, September 2\, 2022
URL:https://www.auroracollege.nt.ca/event/project-management-fundamentals-1st-course-in-series/
LOCATION:Thebacha Campus\, Fort Smith
CATEGORIES:Continuing Education Thebacha Campus, Fort Smith
ORGANIZER;CN="Jessica Cox":MAILTO:jcox@auroracollege.nt.ca
END:VEVENT
END:VCALENDAR