﻿BEGIN:VCALENDAR
VERSION:2.0
PRODID:-//Aurora College - ECPv6.15.20//NONSGML v1.0//EN
CALSCALE:GREGORIAN
METHOD:PUBLISH
X-ORIGINAL-URL:https://www.auroracollege.nt.ca
X-WR-CALDESC:Events for Aurora College
REFRESH-INTERVAL;VALUE=DURATION:PT1H
X-Robots-Tag:noindex
X-PUBLISHED-TTL:PT1H
BEGIN:VTIMEZONE
TZID:America/Inuvik
BEGIN:DAYLIGHT
TZOFFSETFROM:-0700
TZOFFSETTO:-0600
TZNAME:MDT
DTSTART:20210314T090000
END:DAYLIGHT
BEGIN:STANDARD
TZOFFSETFROM:-0600
TZOFFSETTO:-0700
TZNAME:MST
DTSTART:20211107T080000
END:STANDARD
BEGIN:DAYLIGHT
TZOFFSETFROM:-0700
TZOFFSETTO:-0600
TZNAME:MDT
DTSTART:20220313T090000
END:DAYLIGHT
BEGIN:STANDARD
TZOFFSETFROM:-0600
TZOFFSETTO:-0700
TZNAME:MST
DTSTART:20221106T080000
END:STANDARD
BEGIN:DAYLIGHT
TZOFFSETFROM:-0700
TZOFFSETTO:-0600
TZNAME:MDT
DTSTART:20230312T090000
END:DAYLIGHT
BEGIN:STANDARD
TZOFFSETFROM:-0600
TZOFFSETTO:-0700
TZNAME:MST
DTSTART:20231105T080000
END:STANDARD
END:VTIMEZONE
BEGIN:VEVENT
DTSTART;TZID=America/Inuvik:20221201T090000
DTEND;TZID=America/Inuvik:20221201T160000
DTSTAMP:20260423T175959
CREATED:20220819T140252Z
LAST-MODIFIED:20221017T172943Z
UID:10000196-1669885200-1669910400@www.auroracollege.nt.ca
SUMMARY:EFFECTIVE PREPARATION AND START-UP OF PROJECTS (9TH COURSE IN SERIES)
DESCRIPTION:This is the ninth course in the Project Management Certificate program. Effective initiation processes are key to launching effective projects. This course explores specific tips and strategies you can implement during the preparation and start up phases. \n\n\n\nDate: Thursday\, December 1\, 2022 \n\n\n\nTime: 9:00 AM to 4:00 PM \n\n\n\nCost: $350.00 \n\n\n\nInstructor: Janet Dean\, TangleTree Enterprises
URL:https://www.auroracollege.nt.ca/event/effective-preparation-and-start-up-of-projects-9th-course-in-series/
LOCATION:Thebacha Campus\, Fort Smith
CATEGORIES:Continuing Education Thebacha Campus, Fort Smith
ORGANIZER;CN="Jessica Cox":MAILTO:jcox@auroracollege.nt.ca
END:VEVENT
BEGIN:VEVENT
DTSTART;TZID=America/Inuvik:20221202T090000
DTEND;TZID=America/Inuvik:20221202T160000
DTSTAMP:20260423T175959
CREATED:20220819T140409Z
LAST-MODIFIED:20221017T173023Z
UID:10000197-1669971600-1669996800@www.auroracollege.nt.ca
SUMMARY:PMP CERTIFICATION PREPARATION (10TH COURSE IN SERIES)
DESCRIPTION:This is the tenth and final course in the Project Management Certificate program. This course provides an intensive review of the subject matter tested on the Project Management Institute’s Project Management Professional (PMP) Certification Exam. You will improve your test-taking skills by completing Sample Exam questions and by discussing the rationale behind both correct and incorrect answers. This course will help you identify personal strengths and weaknesses in each of the PMBOK knowledge areas and develop a personal strategy for passing the exam. Aurora College does not offer the PMP exam. \n\n\n\nDate: Friday\, December 2\, 2022 \n\n\n\nTime: 9:00 AM to 4:00 PM \n\n\n\nCost: $350.00 \n\n\n\nInstructor: Janet Dean\, TangleTree Enterprises \n\n\n\nRegistration deadline: Thursday\, November 10\, 2022
URL:https://www.auroracollege.nt.ca/event/pmp-certification-preparation-10th-course-in-series/
LOCATION:Thebacha Campus\, Fort Smith
CATEGORIES:Continuing Education Thebacha Campus, Fort Smith
ORGANIZER;CN="Jessica Cox":MAILTO:jcox@auroracollege.nt.ca
END:VEVENT
BEGIN:VEVENT
DTSTART;TZID=America/Inuvik:20221207T090000
DTEND;TZID=America/Inuvik:20221208T160000
DTSTAMP:20260423T175959
CREATED:20220819T134504Z
LAST-MODIFIED:20221103T193925Z
UID:10000185-1670403600-1670515200@www.auroracollege.nt.ca
SUMMARY:WRITING EFFECTIVE PROPOSALS – INSTRUCTOR-LED ONLINE SERIES - Virtual Courses
DESCRIPTION:This 2-day course is designed to teach students how to write an effective proposal\, whether to obtain work for a business or funding for an organization. The steps involved are covered from obtaining the needed information to prepare the proposal right to the layout of the final document. Through a combination of lecture and hands on work\, students will work through the development and preparation of an actual proposal. \n\n\n\nDate: December 7 & 8\, 2022Time: 9:00 a.m. – 4:00. p.m.Cost: $600.00Instructor: Heather Lyon
URL:https://www.auroracollege.nt.ca/event/writing-effective-proposals-instructor-led-online-series-virtual-courses/
CATEGORIES:Continuing Education Aurora Campus, Inuvik,Continuing Education Thebacha Campus, Fort Smith,Continuing Education Yellowknife North Slave Campus,Continuing Education, Online
ORGANIZER;CN="Karen Horn":MAILTO:KHorn@auroracollege.ca
END:VEVENT
END:VCALENDAR